BEGIN:VCALENDAR
VERSION:2.0
PRODID:-//惠靈顿華人浸信會 - ECPv6.15.11//NONSGML v1.0//EN
CALSCALE:GREGORIAN
METHOD:PUBLISH
X-WR-CALNAME:惠靈顿華人浸信會
X-ORIGINAL-URL:https://www.wcbc.org.nz
X-WR-CALDESC:Events for 惠靈顿華人浸信會
REFRESH-INTERVAL;VALUE=DURATION:PT1H
X-Robots-Tag:noindex
X-PUBLISHED-TTL:PT1H
BEGIN:VTIMEZONE
TZID:Pacific/Auckland
BEGIN:STANDARD
TZOFFSETFROM:+1300
TZOFFSETTO:+1200
TZNAME:NZST
DTSTART:20230401T140000
END:STANDARD
BEGIN:DAYLIGHT
TZOFFSETFROM:+1200
TZOFFSETTO:+1300
TZNAME:NZDT
DTSTART:20230923T140000
END:DAYLIGHT
BEGIN:STANDARD
TZOFFSETFROM:+1300
TZOFFSETTO:+1200
TZNAME:NZST
DTSTART:20240406T140000
END:STANDARD
BEGIN:DAYLIGHT
TZOFFSETFROM:+1200
TZOFFSETTO:+1300
TZNAME:NZDT
DTSTART:20240928T140000
END:DAYLIGHT
BEGIN:STANDARD
TZOFFSETFROM:+1300
TZOFFSETTO:+1200
TZNAME:NZST
DTSTART:20250405T140000
END:STANDARD
BEGIN:DAYLIGHT
TZOFFSETFROM:+1200
TZOFFSETTO:+1300
TZNAME:NZDT
DTSTART:20250927T140000
END:DAYLIGHT
BEGIN:STANDARD
TZOFFSETFROM:+1300
TZOFFSETTO:+1200
TZNAME:NZST
DTSTART:20260404T140000
END:STANDARD
BEGIN:DAYLIGHT
TZOFFSETFROM:+1200
TZOFFSETTO:+1300
TZNAME:NZDT
DTSTART:20260926T140000
END:DAYLIGHT
END:VTIMEZONE
BEGIN:VTIMEZONE
TZID:UTC
BEGIN:STANDARD
TZOFFSETFROM:+0000
TZOFFSETTO:+0000
TZNAME:UTC
DTSTART:20230101T000000
END:STANDARD
END:VTIMEZONE
BEGIN:VEVENT
DTSTART;TZID=Pacific/Auckland:20250215T100000
DTEND;TZID=Pacific/Auckland:20250215T170000
DTSTAMP:20260424T033926
CREATED:20250206T093719Z
LAST-MODIFIED:20250206T093820Z
UID:4363-1739613600-1739638800@www.wcbc.org.nz
SUMMARY:教會一日遊
DESCRIPTION:教會計劃去海邊遊玩具體計劃稍後發佈，敬請期待。。。
URL:https://www.wcbc.org.nz/event/%e6%95%99%e6%9c%83%e4%b8%80%e6%97%a5%e9%81%8a/
ATTACH;FMTTYPE=image/png:https://www.wcbc.org.nz/wp-content/uploads/2025/02/sea-4542240_1280.png
END:VEVENT
BEGIN:VEVENT
DTSTART;TZID=Pacific/Auckland:20250202T110000
DTEND;TZID=Pacific/Auckland:20250202T150000
DTSTAMP:20260424T033926
CREATED:20250206T094411Z
LAST-MODIFIED:20250206T094619Z
UID:4366-1738494000-1738508400@www.wcbc.org.nz
SUMMARY:慶祝新春
DESCRIPTION:教會將會舉辦慶祝農曆新年活動屆時將會以Pot luck方式供應午餐，同時還有文藝表演以及揮春比賽等精彩內容，盼望大家積極參與。
URL:https://www.wcbc.org.nz/event/%e6%85%b6%e7%a5%9d%e6%96%b0%e6%98%a5/
ATTACH;FMTTYPE=image/jpeg:https://www.wcbc.org.nz/wp-content/uploads/2024/12/mmexport1733034687773.jpg
END:VEVENT
BEGIN:VEVENT
DTSTART;TZID=Pacific/Auckland:20241012T100000
DTEND;TZID=Pacific/Auckland:20241012T140000
DTSTAMP:20260424T033926
CREATED:20241008T232529Z
LAST-MODIFIED:20241008T233841Z
UID:4013-1728727200-1728741600@www.wcbc.org.nz
SUMMARY:Percy Scenic Reserve游玩和野餐
DESCRIPTION:教会计划于下周六（10月12日）一同前往Percy Scenic Reserve（地址：5 Dowse Drive\, Maungaraki\, Lower Hutt），进行联合游玩和野餐活动。时间：10:00 am – 2:00 pm\, 请各小组长积极协调安排，确保本组成员的安全和活动顺利进行。 \n\n\n\n期待大家的参与，共同度过美好的一天！
URL:https://www.wcbc.org.nz/event/percy-scenic-reserve%e6%b8%b8%e7%8e%a9%e5%92%8c%e9%87%8e%e9%a4%90/
LOCATION:Percy Scenic Reserve\, 5 Dowse Drive\, Maungaraki\, Lower Hutt\, 5010\, New Zealand
ATTACH;FMTTYPE=image/jpeg:https://www.wcbc.org.nz/wp-content/uploads/2024/10/pexels-leah-newhouse-50725-325521.jpg
END:VEVENT
BEGIN:VEVENT
DTSTART;TZID=UTC:20240920T190000
DTEND;TZID=UTC:20240920T213000
DTSTAMP:20260424T033926
CREATED:20210930T070513Z
LAST-MODIFIED:20240903T035000Z
UID:3662-1726858800-1726867800@www.wcbc.org.nz
SUMMARY:中秋音樂聚會
DESCRIPTION:中秋佳節即將來臨，為了歡慶這個充滿團圓與感恩的日子，我們教會將於9月20日（星期五）晚上舉辦一場特別的慶祝活動。屆時將有美食和音樂，大家可以在溫馨的氛圍中共度美好時光。 \n\n\n\n無論你是教會的老朋友還是新朋友，誠摯邀請您和您的家人一同前來，讓我們在主的愛中歡聚一堂，共享這份節日的喜悅與祝福！ \n\n\n\n活動時間和活動地點\n\n\n\n活動時間：2024年9月20日，晚上6點至9點活動地點：教會大廳 \n\n\n\n願主賜福，期待與您相見！
URL:https://www.wcbc.org.nz/event/mother-and-daughter-tea-and-cookies/
END:VEVENT
BEGIN:VEVENT
DTSTART;TZID=UTC:20240907T100000
DTEND;TZID=UTC:20240907T103000
DTSTAMP:20260424T033926
CREATED:20210913T094411Z
LAST-MODIFIED:20240903T065201Z
UID:1059-1725703200-1725705000@www.wcbc.org.nz
SUMMARY:週六爬山活動
DESCRIPTION:日期和時間\n\n\n\n9月7日上午10點正 \n\n\n\n集合地點\n\n\n\n57 Para St\, Miramar (Miramar Central School 後門） \n\n\n\n從Miramar出發大約步行45分鐘到Scorching Bay\,  \n\n\n\n如果當天天氣良好：我們可以在Scorching Bay野餐，當天請大家自備午餐（食物）或者可以到Scorch-O-Rama coffee Shop 購買午餐，預計大約逗留1小時到1個半小時。 \n\n\n\n如果當天天氣不佳（刮風），我們走回頭路到Miramar 取車，然後去豪苑酒家一起吃午餐。請大家重新報名，以便安排。
URL:https://www.wcbc.org.nz/event/church-family-picnic-and-play-at-the-park/
LOCATION:証道
END:VEVENT
END:VCALENDAR